BEGIN:VCALENDAR
VERSION:2.0
PRODID:-//Plone.org//NONSGML plone.app.event//EN
X-WR-TIMEZONE:US/Central
BEGIN:VEVENT
SUMMARY:Library Closed
DTSTART;VALUE=DATE:20211125
DTEND;VALUE=DATE:20211127
DTSTAMP:20260421T114406Z
UID:cad5dffc594c4910a8b73474bf6b0100@saas_stack_varnish:6080
CREATED:20210825T163237Z
LAST-MODIFIED:20210825T164000Z
URL:https://justin.ploud.net/news-events/lib-cal/library-closed
END:VEVENT
END:VCALENDAR
